BEGIN:VCALENDAR
VERSION:2.0
PRODID:-//wp-events-plugin.com//7.2.3.1//EN
TZID:Europe/London
X-WR-TIMEZONE:Europe/London
BEGIN:VEVENT
UID:1061@morayroadrunners.com
DTSTART;TZID=Europe/London:20180623T204500
DTEND;TZID=Europe/London:20180623T223000
DTSTAMP:20180524T181905Z
URL:https://morayroadrunners.com/events/summer-solstice-fun-run-3/
SUMMARY:Summer Solstice Fun Run
DESCRIPTION:Welcome to the Summer edition of the Solstice FunRun series. Th
 is is an event where your challenge is to make your way from Burghead to H
 opeman and back before the sun sets. It is roughly 5.5 miles along mostly 
 nice coastal paths. You can walk\, jog\, run\, race\, take your dog\, ride
  your horse\, push a chair or doddle along chatting to your friends. It is
  very informal\, great fun and there are always goodies at the end. 16 yea
 r old +\n\nEnter\n\n&nbsp\;
ATTACH;FMTTYPE=image/jpeg:https://i0.wp.com/morayroadrunners.com/o/wp-cont
 ent/uploads/2017/05/Summer_Solstice_Sunset.jpg?fit=1200%2C682&ssl=1
CATEGORIES:Trail Running
LOCATION:Burghead Headland\, Burghead\, Burghead\, Scotland
GEO:57.70137440000001;-3.49077699999998
X-APPLE-STRUCTURED-LOCATION;VALUE=URI;X-ADDRESS=Burghead\, Burghead\, Scotl
 and;X-APPLE-RADIUS=100;X-TITLE=Burghead Headland:geo:57.70137440000001,-3.
 49077699999998
END:VEVENT
BEGIN:VTIMEZONE
TZID:Europe/London
X-LIC-LOCATION:Europe/London
BEGIN:DAYLIGHT
DTSTART:20180325T020000
TZOFFSETFROM:+0000
TZOFFSETTO:+0100
TZNAME:BST
END:DAYLIGHT
END:VTIMEZONE
END:VCALENDAR