BEGIN:VCALENDAR
VERSION:2.0
PRODID:-//wp-events-plugin.com//7.2.3.1//EN
TZID:Europe/London
X-WR-TIMEZONE:Europe/London
BEGIN:VEVENT
UID:2427@morayroadrunners.com
DTSTART;TZID=Europe/London:20260704T090000
DTEND;TZID=Europe/London:20260704T160000
DTSTAMP:20260302T221706Z
URL:https://morayroadrunners.com/events/the-clashmach-hill-race-3/
SUMMARY:The Clashmach Hill Race
DESCRIPTION:Information and Entry
CATEGORIES:Hill Races
LOCATION:Auction Mart\, Huntly\, Huntly\, AB54 4QU\, Scotland
GEO:57.4387649;-2.81138390000001
X-APPLE-STRUCTURED-LOCATION;VALUE=URI;X-ADDRESS=Huntly\, Huntly\, AB54 4QU\
 , Scotland;X-APPLE-RADIUS=100;X-TITLE=Auction Mart:geo:57.4387649,-2.81138
 390000001
END:VEVENT
BEGIN:VTIMEZONE
TZID:Europe/London
X-LIC-LOCATION:Europe/London
BEGIN:DAYLIGHT
DTSTART:20260329T020000
TZOFFSETFROM:+0000
TZOFFSETTO:+0100
TZNAME:BST
END:DAYLIGHT
END:VTIMEZONE
END:VCALENDAR