BEGIN:VCALENDAR
VERSION:2.0
PRODID:-//wp-events-plugin.com//7.2.3.1//EN
TZID:Europe/London
X-WR-TIMEZONE:Europe/London
BEGIN:VEVENT
UID:1973@morayroadrunners.com
DTSTART;TZID=Europe/London:20210911T070000
DTEND;TZID=Europe/London:20210911T170000
DTSTAMP:20210612T212023Z
URL:https://morayroadrunners.com/events/the-conic-canter/
SUMMARY:The Conic Canter
DESCRIPTION:Information and Entry
CATEGORIES:Ultra Running
LOCATION:Milngavie Scout Hall\, 37 Main Street\, Milngavie\, G62 6BX\, Scot
 land
X-APPLE-STRUCTURED-LOCATION;VALUE=URI;X-ADDRESS=37 Main Street\, Milngavie\
 , G62 6BX\, Scotland;X-APPLE-RADIUS=100;X-TITLE=Milngavie Scout Hall:geo:0
 ,0
END:VEVENT
BEGIN:VTIMEZONE
TZID:Europe/London
X-LIC-LOCATION:Europe/London
BEGIN:DAYLIGHT
DTSTART:20210328T020000
TZOFFSETFROM:+0000
TZOFFSETTO:+0100
TZNAME:BST
END:DAYLIGHT
END:VTIMEZONE
END:VCALENDAR