BEGIN:VCALENDAR
VERSION:2.0
PRODID:-//wp-events-plugin.com//7.2.3.1//EN
TZID:Europe/London
X-WR-TIMEZONE:Europe/London
BEGIN:VEVENT
UID:4029@morayroadrunners.com
DTSTART;TZID=Europe/London:20260607T090000
DTEND;TZID=Europe/London:20260607T130000
DTSTAMP:20251220T214831Z
URL:https://morayroadrunners.com/events/the-croy-10k/
SUMMARY:The Croy 10k
DESCRIPTION:Information and Entry
CATEGORIES:Road Running
LOCATION:Croy Village Hall\, 4 Dalcroy Road\, Croy\, IV2 5PQ\, Scotland
X-APPLE-STRUCTURED-LOCATION;VALUE=URI;X-ADDRESS=4 Dalcroy Road\, Croy\, IV2
  5PQ\, Scotland;X-APPLE-RADIUS=100;X-TITLE=Croy Village Hall:geo:0,0
END:VEVENT
BEGIN:VTIMEZONE
TZID:Europe/London
X-LIC-LOCATION:Europe/London
BEGIN:DAYLIGHT
DTSTART:20260329T020000
TZOFFSETFROM:+0000
TZOFFSETTO:+0100
TZNAME:BST
END:DAYLIGHT
END:VTIMEZONE
END:VCALENDAR