BEGIN:VCALENDAR
VERSION:2.0
PRODID:-//wp-events-plugin.com//7.2.3.1//EN
TZID:Europe/London
X-WR-TIMEZONE:Europe/London
BEGIN:VEVENT
UID:1193@morayroadrunners.com
DTSTART;TZID=Europe/London:20191027T090000
DTEND;TZID=Europe/London:20191027T170000
DTSTAMP:20190102T185548Z
URL:https://morayroadrunners.com/events/the-culloden-run-17-46km-10km-3/
SUMMARY:The Culloden Run 17.46km & 10km
DESCRIPTION:Information
CATEGORIES:Road Running
LOCATION:Culloden Battlefield\, Culloden Moor\, Inverness\, IV2 5EU\, Scotl
 and
GEO:57.4770232;-4.09301789999995
X-APPLE-STRUCTURED-LOCATION;VALUE=URI;X-ADDRESS=Culloden Moor\, Inverness\,
  IV2 5EU\, Scotland;X-APPLE-RADIUS=100;X-TITLE=Culloden Battlefield:geo:57
 .4770232,-4.09301789999995
END:VEVENT
BEGIN:VTIMEZONE
TZID:Europe/London
X-LIC-LOCATION:Europe/London
BEGIN:STANDARD
DTSTART:20191027T010000
TZOFFSETFROM:+0100
TZOFFSETTO:+0000
TZNAME:GMT
END:STANDARD
END:VTIMEZONE
END:VCALENDAR