BEGIN:VCALENDAR
VERSION:2.0
PRODID:-//wp-events-plugin.com//7.2.3.1//EN
TZID:Europe/London
X-WR-TIMEZONE:Europe/London
BEGIN:VEVENT
UID:1121@morayroadrunners.com
DTSTART;TZID=Europe/London:20181209T093000
DTEND;TZID=Europe/London:20181209T140000
DTSTAMP:20180930T212106Z
URL:https://morayroadrunners.com/events/the-den-dasher-2/
SUMMARY:The Den Dasher
DESCRIPTION:Information
CATEGORIES:Road Running
LOCATION:The Haughs\, Bridge of Turriff\, Turriff\, Scotland
GEO:57.53371139999999;-2.461804099999995
X-APPLE-STRUCTURED-LOCATION;VALUE=URI;X-ADDRESS=Bridge of Turriff\, Turriff
 \, Scotland;X-APPLE-RADIUS=100;X-TITLE=The Haughs:geo:57.53371139999999,-2
 .461804099999995
END:VEVENT
BEGIN:VTIMEZONE
TZID:Europe/London
X-LIC-LOCATION:Europe/London
BEGIN:STANDARD
DTSTART:20181028T010000
TZOFFSETFROM:+0100
TZOFFSETTO:+0000
TZNAME:GMT
END:STANDARD
END:VTIMEZONE
END:VCALENDAR