BEGIN:VCALENDAR
VERSION:2.0
PRODID:-//wp-events-plugin.com//7.2.3.1//EN
TZID:Europe/London
X-WR-TIMEZONE:Europe/London
BEGIN:VEVENT
UID:960@morayroadrunners.com
DTSTART;TZID=Europe/London:20261017T000000
DTEND;TZID=Europe/London:20261017T000000
DTSTAMP:20251129T110038Z
URL:https://morayroadrunners.com/events/the-dramathon-2/
SUMMARY:The Dramathon
DESCRIPTION:Information
CATEGORIES:Trail Running
LOCATION:Glenfiddich Distillery\, Glenfiddich\, Dufftown\, AB55 4DH\, Scotl
 and
GEO:57.443623;-3.128379999999993
X-APPLE-STRUCTURED-LOCATION;VALUE=URI;X-ADDRESS=Glenfiddich\, Dufftown\, AB
 55 4DH\, Scotland;X-APPLE-RADIUS=100;X-TITLE=Glenfiddich Distillery:geo:57
 .443623,-3.128379999999993
END:VEVENT
BEGIN:VTIMEZONE
TZID:Europe/London
X-LIC-LOCATION:Europe/London
BEGIN:DAYLIGHT
DTSTART:20260329T020000
TZOFFSETFROM:+0000
TZOFFSETTO:+0100
TZNAME:BST
END:DAYLIGHT
END:VTIMEZONE
END:VCALENDAR