BEGIN:VCALENDAR
VERSION:2.0
PRODID:-//wp-events-plugin.com//7.2.3.1//EN
TZID:Europe/London
X-WR-TIMEZONE:Europe/London
BEGIN:VEVENT
UID:990@morayroadrunners.com
DTSTART;TZID=Europe/London:20181028T110000
DTEND;TZID=Europe/London:20181028T130000
DTSTAMP:20180120T074333Z
URL:https://morayroadrunners.com/events/the-fochabers-monumental-challenge
 -3rd-of-fochabers-triple-challenge/
SUMMARY:The Fochabers Monumental  Challenge (3rd of Fochabers Triple Challe
 nge)
DESCRIPTION:Spey Runners are proud to host the return of the Monumental Cha
 llenge. Starting and finishing at the foot of the Monster Trails\, this ch
 allenging 5 mile hill race passes the monument to the Duchess of Gordon\, 
 at the top of the picturesque Whiteash Hill.\nRace starts 11:00am\, regist
 ration 9:00-10:30am.
CATEGORIES:Hill Races
LOCATION:Christies Car Park\, The Nurseries\, Fochabers\, Moray\, IV32 7PF\
 , Scotland
GEO:57.6109321;-3.0873477000000094
X-APPLE-STRUCTURED-LOCATION;VALUE=URI;X-ADDRESS=The Nurseries\, Fochabers\,
  Moray\, IV32 7PF\, Scotland;X-APPLE-RADIUS=100;X-TITLE=Christies Car Park
 :geo:57.6109321,-3.0873477000000094
END:VEVENT
BEGIN:VTIMEZONE
TZID:Europe/London
X-LIC-LOCATION:Europe/London
BEGIN:STANDARD
DTSTART:20181028T010000
TZOFFSETFROM:+0100
TZOFFSETTO:+0000
TZNAME:GMT
END:STANDARD
END:VTIMEZONE
END:VCALENDAR