BEGIN:VCALENDAR
VERSION:2.0
PRODID:-//wp-events-plugin.com//7.2.3.1//EN
TZID:Europe/London
X-WR-TIMEZONE:Europe/London
BEGIN:VEVENT
UID:3869@morayroadrunners.com
DTSTART;TZID=Europe/London:20240518T083000
DTEND;TZID=Europe/London:20240518T120000
DTSTAMP:20240326T222414Z
URL:https://morayroadrunners.com/events/the-forgue-trail-run/
SUMMARY:The Forgue Trail Run
DESCRIPTION:Information and Entry
CATEGORIES:Trail Running
LOCATION:Scott Hall\, Forgue\, Huntly\, Scotland
X-APPLE-STRUCTURED-LOCATION;VALUE=URI;X-ADDRESS=Forgue\, Huntly\, Scotland;
 X-APPLE-RADIUS=100;X-TITLE=Scott Hall:geo:0,0
END:VEVENT
BEGIN:VTIMEZONE
TZID:Europe/London
X-LIC-LOCATION:Europe/London
BEGIN:DAYLIGHT
DTSTART:20240331T020000
TZOFFSETFROM:+0000
TZOFFSETTO:+0100
TZNAME:BST
END:DAYLIGHT
END:VTIMEZONE
END:VCALENDAR