BEGIN:VCALENDAR
VERSION:2.0
PRODID:-//wp-events-plugin.com//7.2.3.1//EN
TZID:Europe/London
X-WR-TIMEZONE:Europe/London
BEGIN:VEVENT
UID:1864@morayroadrunners.com
DTSTART;TZID=Europe/London;VALUE=DATE:20211031
DTEND;TZID=Europe/London;VALUE=DATE:20211101
DTSTAMP:20210414T214303Z
URL:https://morayroadrunners.com/events/the-glenlivet-10k/
SUMMARY:The Glenlivet 10k
DESCRIPTION:Entry and Information
CATEGORIES:Road Running
LOCATION:Glenlivet Distillery Visitor Centre\, Cairngorms\, Ballindalloch\,
  Banffshire\, AB37 9DB\, Scotland
GEO:57.2475989;-3.373664299999973
X-APPLE-STRUCTURED-LOCATION;VALUE=URI;X-ADDRESS=Cairngorms\, Ballindalloch\
 , Banffshire\, AB37 9DB\, Scotland;X-APPLE-RADIUS=100;X-TITLE=Glenlivet Di
 stillery Visitor Centre:geo:57.2475989,-3.373664299999973
END:VEVENT
BEGIN:VTIMEZONE
TZID:Europe/London
X-LIC-LOCATION:Europe/London
BEGIN:DAYLIGHT
DTSTART:20210328T020000
TZOFFSETFROM:+0000
TZOFFSETTO:+0100
TZNAME:BST
END:DAYLIGHT
BEGIN:STANDARD
DTSTART:20211031T010000
TZOFFSETFROM:+0100
TZOFFSETTO:+0000
TZNAME:GMT
END:STANDARD
END:VTIMEZONE
END:VCALENDAR