BEGIN:VCALENDAR
VERSION:2.0
PRODID:-//wp-events-plugin.com//7.2.3.1//EN
TZID:Europe/London
X-WR-TIMEZONE:Europe/London
BEGIN:VEVENT
UID:714@morayroadrunners.com
DTSTART;TZID=Europe/London:20170415T060000
DTEND;TZID=Europe/London:20170415T173000
DTSTAMP:20170103T222726Z
URL:https://morayroadrunners.com/events/the-great-tartan-skiddadle/
SUMMARY:The Great Tartan Skiddadle
DESCRIPTION:Information
CATEGORIES:Ultra Running
LOCATION:Car Park\, The Meadows\, Callander\, FK17 8BD\, Scotland
GEO:56.24456989999999;-4.216019700000061
X-APPLE-STRUCTURED-LOCATION;VALUE=URI;X-ADDRESS=The Meadows\, Callander\, F
 K17 8BD\, Scotland;X-APPLE-RADIUS=100;X-TITLE=Car Park:geo:56.244569899999
 99,-4.216019700000061
END:VEVENT
BEGIN:VTIMEZONE
TZID:Europe/London
X-LIC-LOCATION:Europe/London
BEGIN:DAYLIGHT
DTSTART:20170326T020000
TZOFFSETFROM:+0000
TZOFFSETTO:+0100
TZNAME:BST
END:DAYLIGHT
END:VTIMEZONE
END:VCALENDAR