BEGIN:VCALENDAR
VERSION:2.0
PRODID:-//wp-events-plugin.com//7.2.3.1//EN
TZID:Europe/London
X-WR-TIMEZONE:Europe/London
BEGIN:VEVENT
UID:3197@morayroadrunners.com
DTSTART;TZID=Europe/London;VALUE=DATE:20230813
DTEND;TZID=Europe/London;VALUE=DATE:20230821
DTSTAMP:20230331T211841Z
URL:https://morayroadrunners.com/events/the-jon-ward-virtual-hereford-5km-
 2/
SUMMARY:The Jon Ward Virtual Hereford 5km
DESCRIPTION:Information and Entry
CATEGORIES:Road Running
END:VEVENT
BEGIN:VTIMEZONE
TZID:Europe/London
X-LIC-LOCATION:Europe/London
BEGIN:DAYLIGHT
DTSTART:20230326T020000
TZOFFSETFROM:+0000
TZOFFSETTO:+0100
TZNAME:BST
END:DAYLIGHT
END:VTIMEZONE
END:VCALENDAR