BEGIN:VCALENDAR
VERSION:2.0
PRODID:-//wp-events-plugin.com//7.2.3.1//EN
TZID:Europe/London
X-WR-TIMEZONE:Europe/London
BEGIN:VEVENT
UID:1975@morayroadrunners.com
DTSTART;TZID=Europe/London;VALUE=DATE:20210828
DTEND;TZID=Europe/London;VALUE=DATE:20210829
DTSTAMP:20210619T165119Z
URL:https://morayroadrunners.com/events/the-loch-ness-beast-race-2/
SUMMARY:The Loch Ness Beast Race
DESCRIPTION:Information
CATEGORIES:Road Running
LOCATION:Aldourie Castle\, Highland\, Inverness\, IV2 6EL\, Scotland
GEO:57.4072322;-4.327189599999997
X-APPLE-STRUCTURED-LOCATION;VALUE=URI;X-ADDRESS=Highland\, Inverness\, IV2 
 6EL\, Scotland;X-APPLE-RADIUS=100;X-TITLE=Aldourie Castle:geo:57.4072322,-
 4.327189599999997
END:VEVENT
BEGIN:VTIMEZONE
TZID:Europe/London
X-LIC-LOCATION:Europe/London
BEGIN:DAYLIGHT
DTSTART:20210328T020000
TZOFFSETFROM:+0000
TZOFFSETTO:+0100
TZNAME:BST
END:DAYLIGHT
END:VTIMEZONE
END:VCALENDAR