BEGIN:VCALENDAR
VERSION:2.0
PRODID:-//wp-events-plugin.com//7.2.3.1//EN
TZID:Europe/London
X-WR-TIMEZONE:Europe/London
BEGIN:VEVENT
UID:3528@morayroadrunners.com
DTSTART;TZID=Europe/London:20260509T050000
DTEND;TZID=Europe/London:20260509T210000
DTSTAMP:20250726T073352Z
URL:https://morayroadrunners.com/events/the-moray-coastal-trail-50-miles-4
 /
SUMMARY:The Moray Coastal Trail Races
DESCRIPTION:Information
CATEGORIES:Ultra Running
END:VEVENT
BEGIN:VTIMEZONE
TZID:Europe/London
X-LIC-LOCATION:Europe/London
BEGIN:DAYLIGHT
DTSTART:20260329T020000
TZOFFSETFROM:+0000
TZOFFSETTO:+0100
TZNAME:BST
END:DAYLIGHT
END:VTIMEZONE
END:VCALENDAR