BEGIN:VCALENDAR
VERSION:2.0
PRODID:-//wp-events-plugin.com//7.2.3.1//EN
TZID:Europe/London
X-WR-TIMEZONE:Europe/London
BEGIN:VEVENT
UID:1971@morayroadrunners.com
DTSTART;TZID=Europe/London:20240720T130000
DTEND;TZID=Europe/London:20240720T180000
DTSTAMP:20240606T212919Z
URL:https://morayroadrunners.com/events/tom-na-bat-hill-race-3/
SUMMARY:Tom na bat Hill Race
DESCRIPTION:Information
CATEGORIES:Hill Races
LOCATION:Tomintoul Public Park\, Tomintoul\, Tomintoul\, AB37 9EX\, Scotlan
 d
GEO:57.2512711;-3.3792048999999906
X-APPLE-STRUCTURED-LOCATION;VALUE=URI;X-ADDRESS=Tomintoul\, Tomintoul\, AB3
 7 9EX\, Scotland;X-APPLE-RADIUS=100;X-TITLE=Tomintoul Public Park:geo:57.2
 512711,-3.3792048999999906
END:VEVENT
BEGIN:VTIMEZONE
TZID:Europe/London
X-LIC-LOCATION:Europe/London
BEGIN:DAYLIGHT
DTSTART:20240331T020000
TZOFFSETFROM:+0000
TZOFFSETTO:+0100
TZNAME:BST
END:DAYLIGHT
END:VTIMEZONE
END:VCALENDAR