BEGIN:VCALENDAR
VERSION:2.0
PRODID:-//wp-events-plugin.com//7.2.3.1//EN
TZID:Europe/London
X-WR-TIMEZONE:Europe/London
BEGIN:VEVENT
UID:1196@morayroadrunners.com
DTSTART;TZID=Europe/London:20190616T120000
DTEND;TZID=Europe/London:20190616T170000
DTSTAMP:20190121T224545Z
URL:https://morayroadrunners.com/events/touler-10k-multi-terrain-running-e
 vent-4/
SUMMARY:Touler 10k - Multi Terrain Running Event
DESCRIPTION:Information
CATEGORIES:Road Running,Trail Running
LOCATION:Richmond Memorial Hall\, Tomnabat Lane\, Tomintoul\, AB37 9EZ\, Sc
 otland
GEO:57.2481579;-3.376002699999958
X-APPLE-STRUCTURED-LOCATION;VALUE=URI;X-ADDRESS=Tomnabat Lane\, Tomintoul\,
  AB37 9EZ\, Scotland;X-APPLE-RADIUS=100;X-TITLE=Richmond Memorial Hall:geo
 :57.2481579,-3.376002699999958
END:VEVENT
BEGIN:VTIMEZONE
TZID:Europe/London
X-LIC-LOCATION:Europe/London
BEGIN:DAYLIGHT
DTSTART:20190331T020000
TZOFFSETFROM:+0000
TZOFFSETTO:+0100
TZNAME:BST
END:DAYLIGHT
END:VTIMEZONE
END:VCALENDAR