BEGIN:VCALENDAR
VERSION:2.0
PRODID:-//wp-events-plugin.com//7.2.3.1//EN
TZID:Europe/London
X-WR-TIMEZONE:Europe/London
BEGIN:VEVENT
UID:3003@morayroadrunners.com
DTSTART;TZID=Europe/London:20230126T180000
DTEND;TZID=Europe/London:20230126T190000
DTSTAMP:20221221T153946Z
URL:https://morayroadrunners.com/events/training-10min-tempo-10-x-min-on1-
 min-off-10min-tempo/
SUMMARY:Training - 10min Tempo / 10 x min on\,1 min off / 10min Tempo
DESCRIPTION:
CATEGORIES:Training
LOCATION:Elgin Academy\, Morriston Road\, Elgin\, IV30 4ND\, Scotland
GEO:57.65276389999999;-3.331740800000034
X-APPLE-STRUCTURED-LOCATION;VALUE=URI;X-ADDRESS=Morriston Road\, Elgin\, IV
 30 4ND\, Scotland;X-APPLE-RADIUS=100;X-TITLE=Elgin Academy:geo:57.65276389
 999999,-3.331740800000034
END:VEVENT
BEGIN:VTIMEZONE
TZID:Europe/London
X-LIC-LOCATION:Europe/London
BEGIN:STANDARD
DTSTART:20221030T010000
TZOFFSETFROM:+0100
TZOFFSETTO:+0000
TZNAME:GMT
END:STANDARD
END:VTIMEZONE
END:VCALENDAR