BEGIN:VCALENDAR
VERSION:2.0
PRODID:-//wp-events-plugin.com//7.2.3.1//EN
TZID:Europe/London
X-WR-TIMEZONE:Europe/London
BEGIN:VEVENT
UID:3909@morayroadrunners.com
DTSTART;TZID=Europe/London:20240808T180000
DTEND;TZID=Europe/London:20240808T190000
DTSTAMP:20240616T210056Z
URL:https://morayroadrunners.com/events/training-3x10min-efforts-38/
SUMMARY:Training - 3x10min Efforts
DESCRIPTION:
CATEGORIES:Training
LOCATION:Moray Sports Centre\, Linkwood Rd\, Elgin\, IV30 8AR\, Scotland
X-APPLE-STRUCTURED-LOCATION;VALUE=URI;X-ADDRESS=Linkwood Rd\, Elgin\, IV30 
 8AR\, Scotland;X-APPLE-RADIUS=100;X-TITLE=Moray Sports Centre:geo:0,0
END:VEVENT
BEGIN:VTIMEZONE
TZID:Europe/London
X-LIC-LOCATION:Europe/London
BEGIN:DAYLIGHT
DTSTART:20240331T020000
TZOFFSETFROM:+0000
TZOFFSETTO:+0100
TZNAME:BST
END:DAYLIGHT
END:VTIMEZONE
END:VCALENDAR