BEGIN:VCALENDAR
VERSION:2.0
PRODID:-//wp-events-plugin.com//7.2.3.1//EN
TZID:Europe/London
X-WR-TIMEZONE:Europe/London
BEGIN:VEVENT
UID:3876@morayroadrunners.com
DTSTART;TZID=Europe/London:20240608T090000
DTEND;TZID=Europe/London:20240608T100000
DTSTAMP:20240606T203622Z
URL:https://morayroadrunners.com/events/training-6-10-x-3min-efforts-1-min
 -jog-walk-stop-recovery/
SUMMARY:Training - 6 - 10 x 3min efforts\,  1 min jog/walk/stop recovery
DESCRIPTION:
CATEGORIES:Training
LOCATION:Morriston Playing Fields\, Haugh Road\, Elgin\, IV30 1AR\, Scotlan
 d
GEO:57.6504607;-3.32282639999994
X-APPLE-STRUCTURED-LOCATION;VALUE=URI;X-ADDRESS=Haugh Road\, Elgin\, IV30 1
 AR\, Scotland;X-APPLE-RADIUS=100;X-TITLE=Morriston Playing Fields:geo:57.6
 504607,-3.32282639999994
END:VEVENT
BEGIN:VTIMEZONE
TZID:Europe/London
X-LIC-LOCATION:Europe/London
BEGIN:DAYLIGHT
DTSTART:20240331T020000
TZOFFSETFROM:+0000
TZOFFSETTO:+0100
TZNAME:BST
END:DAYLIGHT
END:VTIMEZONE
END:VCALENDAR