BEGIN:VCALENDAR
VERSION:2.0
PRODID:-//wp-events-plugin.com//7.2.3.1//EN
TZID:Europe/London
X-WR-TIMEZONE:Europe/London
BEGIN:VEVENT
UID:2768@morayroadrunners.com
DTSTART;TZID=Europe/London:20251231T090000
DTEND;TZID=Europe/London:20251231T110000
DTSTAMP:20251111T183540Z
URL:https://morayroadrunners.com/events/training-bin-of-cullen-2/
SUMMARY:Training - Bin of Cullen
DESCRIPTION:
CATEGORIES:Training
LOCATION:Bin of Cullen\, Bin Hill\, Buckie\, Scotland
GEO:57.6652777;-2.8734444000000394
X-APPLE-STRUCTURED-LOCATION;VALUE=URI;X-ADDRESS=Bin Hill\, Buckie\, Scotlan
 d;X-APPLE-RADIUS=100;X-TITLE=Bin of Cullen:geo:57.6652777,-2.8734444000000
 394
END:VEVENT
BEGIN:VTIMEZONE
TZID:Europe/London
X-LIC-LOCATION:Europe/London
BEGIN:STANDARD
DTSTART:20251026T010000
TZOFFSETFROM:+0100
TZOFFSETTO:+0000
TZNAME:GMT
END:STANDARD
END:VTIMEZONE
END:VCALENDAR