BEGIN:VCALENDAR
VERSION:2.0
PRODID:-//wp-events-plugin.com//7.2.3.1//EN
TZID:Europe/London
X-WR-TIMEZONE:Europe/London
BEGIN:VEVENT
UID:2195@morayroadrunners.com
DTSTART;TZID=Europe/London:20260103T090000
DTEND;TZID=Europe/London:20260103T103000
DTSTAMP:20251111T183806Z
URL:https://morayroadrunners.com/events/training-coastal-run/
SUMMARY:Training - Lossie East Beach (30min out/30min back)
DESCRIPTION:
CATEGORIES:Training
LOCATION:East Beach Bridge\, Clifton Road\, Lossiemouth\, Scotland
X-APPLE-STRUCTURED-LOCATION;VALUE=URI;X-ADDRESS=Clifton Road\, Lossiemouth\
 , Scotland;X-APPLE-RADIUS=100;X-TITLE=East Beach Bridge:geo:0,0
END:VEVENT
BEGIN:VTIMEZONE
TZID:Europe/London
X-LIC-LOCATION:Europe/London
BEGIN:STANDARD
DTSTART:20251026T010000
TZOFFSETFROM:+0100
TZOFFSETTO:+0000
TZNAME:GMT
END:STANDARD
END:VTIMEZONE
END:VCALENDAR