BEGIN:VCALENDAR
VERSION:2.0
PRODID:-//wp-events-plugin.com//7.2.3.1//EN
TZID:Europe/London
X-WR-TIMEZONE:Europe/London
BEGIN:VEVENT
UID:2542@morayroadrunners.com
DTSTART;TZID=Europe/London:20230503T180000
DTEND;TZID=Europe/London:20230503T190000
DTSTAMP:20230318T134515Z
URL:https://morayroadrunners.com/events/training-deanshaugh-pyramid-2/
SUMMARY:Training - Deanshaugh Pyramid
DESCRIPTION:(1min\, 2min\, 3min\, 2min\, 1min?1min recover\, 2min between s
 ets) x 3
CATEGORIES:Training
LOCATION:Moray Leisure Centre\, Borough Briggs Road\, Elgin\, IV30 1AP\, Sc
 otland
GEO:57.65159589999999;-3.322367399999962
X-APPLE-STRUCTURED-LOCATION;VALUE=URI;X-ADDRESS=Borough Briggs Road\, Elgin
 \, IV30 1AP\, Scotland;X-APPLE-RADIUS=100;X-TITLE=Moray Leisure Centre:geo
 :57.65159589999999,-3.322367399999962
END:VEVENT
BEGIN:VTIMEZONE
TZID:Europe/London
X-LIC-LOCATION:Europe/London
BEGIN:DAYLIGHT
DTSTART:20230326T020000
TZOFFSETFROM:+0000
TZOFFSETTO:+0100
TZNAME:BST
END:DAYLIGHT
END:VTIMEZONE
END:VCALENDAR