BEGIN:VCALENDAR
VERSION:2.0
PRODID:-//wp-events-plugin.com//7.2.3.1//EN
TZID:Europe/London
X-WR-TIMEZONE:Europe/London
BEGIN:VEVENT
UID:1413@morayroadrunners.com
DTSTART;TZID=Europe/London:20260322T090000
DTEND;TZID=Europe/London:20260322T103000
DTSTAMP:20260320T153112Z
URL:https://morayroadrunners.com/events/training-easy-run-2020-01-27/
SUMMARY:Training - Mosstowie Primary School 45min out/45min back
DESCRIPTION:
CATEGORIES:Training
LOCATION:Mosstowie Primary School\, Milton Brae\, Elgin\, Moray\, IV30 8TY\
 , United Kingdom
X-APPLE-STRUCTURED-LOCATION;VALUE=URI;X-ADDRESS=Milton Brae\, Elgin\, Moray
 \, IV30 8TY\, United Kingdom;X-APPLE-RADIUS=100;X-TITLE=Mosstowie Primary 
 School:geo:0,0
END:VEVENT
BEGIN:VTIMEZONE
TZID:Europe/London
X-LIC-LOCATION:Europe/London
BEGIN:STANDARD
DTSTART:20251026T010000
TZOFFSETFROM:+0100
TZOFFSETTO:+0000
TZNAME:GMT
END:STANDARD
END:VTIMEZONE
END:VCALENDAR