BEGIN:VCALENDAR
VERSION:2.0
PRODID:-//wp-events-plugin.com//7.2.3.1//EN
TZID:Europe/London
X-WR-TIMEZONE:Europe/London
BEGIN:VEVENT
UID:4414@morayroadrunners.com
DTSTART;TZID=Europe/London:20260419T090000
DTEND;TZID=Europe/London:20260419T103000
DTSTAMP:20260416T204031Z
URL:https://morayroadrunners.com/events/training-hopeman-east-beach-45min-
 out-and-back/
SUMMARY:Training - Hopeman East Beach (45min out and back)
DESCRIPTION:Meet opposite the skate park.\nHopeman towards Lossie coastal r
 oute.\n45 min out/45 min back\nCoffee at the Boatyard afterwards.
CATEGORIES:Training
LOCATION:Hopeman East Beach\, East Beach\, Hopeman\, IV30 5RX\, Scotland
X-APPLE-STRUCTURED-LOCATION;VALUE=URI;X-ADDRESS=East Beach\, Hopeman\, IV30
  5RX\, Scotland;X-APPLE-RADIUS=100;X-TITLE=Hopeman East Beach:geo:0,0
END:VEVENT
BEGIN:VTIMEZONE
TZID:Europe/London
X-LIC-LOCATION:Europe/London
BEGIN:DAYLIGHT
DTSTART:20260329T020000
TZOFFSETFROM:+0000
TZOFFSETTO:+0100
TZNAME:BST
END:DAYLIGHT
END:VTIMEZONE
END:VCALENDAR