BEGIN:VCALENDAR
VERSION:2.0
PRODID:-//wp-events-plugin.com//7.2.3.1//EN
TZID:Europe/London
X-WR-TIMEZONE:Europe/London
BEGIN:VEVENT
UID:3906@morayroadrunners.com
DTSTART;TZID=Europe/London:20240827T180000
DTEND;TZID=Europe/London:20240827T190000
DTSTAMP:20240616T205424Z
URL:https://morayroadrunners.com/events/training-long-pyramid3456543-2-min
 -recovery-3/
SUMMARY:Training - Long Pyramid(3\,4\,5\,6\,5\,4\,3) 2 min recovery
DESCRIPTION:
CATEGORIES:Training
LOCATION:Moray Sports Centre\, Linkwood Rd\, Elgin\, IV30 8AR\, Scotland
X-APPLE-STRUCTURED-LOCATION;VALUE=URI;X-ADDRESS=Linkwood Rd\, Elgin\, IV30 
 8AR\, Scotland;X-APPLE-RADIUS=100;X-TITLE=Moray Sports Centre:geo:0,0
END:VEVENT
BEGIN:VTIMEZONE
TZID:Europe/London
X-LIC-LOCATION:Europe/London
BEGIN:DAYLIGHT
DTSTART:20240331T020000
TZOFFSETFROM:+0000
TZOFFSETTO:+0100
TZNAME:BST
END:DAYLIGHT
END:VTIMEZONE
END:VCALENDAR