BEGIN:VCALENDAR
VERSION:2.0
PRODID:-//wp-events-plugin.com//7.2.3.1//EN
TZID:Europe/London
X-WR-TIMEZONE:Europe/London
BEGIN:VEVENT
UID:3815@morayroadrunners.com
DTSTART;TZID=Europe/London:20260125T090000
DTEND;TZID=Europe/London:20260125T103000
DTSTAMP:20260122T220652Z
URL:https://morayroadrunners.com/events/training-long-run-2024-03-31/
SUMMARY:Training - Monaughty Woods
DESCRIPTION:
CATEGORIES:Training
LOCATION:Monaughty Car Park\, Monaughty\, Elgin\, Scotland
GEO:57.6167019;-3.4518077000000176
X-APPLE-STRUCTURED-LOCATION;VALUE=URI;X-ADDRESS=Monaughty\, Elgin\, Scotlan
 d;X-APPLE-RADIUS=100;X-TITLE=Monaughty Car Park:geo:57.6167019,-3.45180770
 00000176
END:VEVENT
BEGIN:VTIMEZONE
TZID:Europe/London
X-LIC-LOCATION:Europe/London
BEGIN:STANDARD
DTSTART:20251026T010000
TZOFFSETFROM:+0100
TZOFFSETTO:+0000
TZNAME:GMT
END:STANDARD
END:VTIMEZONE
END:VCALENDAR