BEGIN:VCALENDAR
VERSION:2.0
PRODID:-//wp-events-plugin.com//7.2.3.1//EN
TZID:Europe/London
X-WR-TIMEZONE:Europe/London
BEGIN:VEVENT
UID:3194@morayroadrunners.com
DTSTART;TZID=Europe/London:20240106T090000
DTEND;TZID=Europe/London:20240106T103000
DTSTAMP:20240105T151729Z
URL:https://morayroadrunners.com/events/training-lossie-west-beach-45min-o
 ut-45min-back/
SUMMARY:Training - Pyramid Session
DESCRIPTION:
CATEGORIES:Training
LOCATION:Morriston Park Track\, Morriston Park\, Elgin\, Scotland
GEO:57.64945400000001;-3.3184850000000097
X-APPLE-STRUCTURED-LOCATION;VALUE=URI;X-ADDRESS=Morriston Park\, Elgin\, Sc
 otland;X-APPLE-RADIUS=100;X-TITLE=Morriston Park Track:geo:57.649454000000
 01,-3.3184850000000097
END:VEVENT
BEGIN:VTIMEZONE
TZID:Europe/London
X-LIC-LOCATION:Europe/London
BEGIN:STANDARD
DTSTART:20231029T010000
TZOFFSETFROM:+0100
TZOFFSETTO:+0000
TZNAME:GMT
END:STANDARD
END:VTIMEZONE
END:VCALENDAR