BEGIN:VCALENDAR
VERSION:2.0
PRODID:-//wp-events-plugin.com//7.2.3.1//EN
TZID:Europe/London
X-WR-TIMEZONE:Europe/London
BEGIN:VEVENT
UID:2200@morayroadrunners.com
DTSTART;TZID=Europe/London:20250629T090000
DTEND;TZID=Europe/London:20250629T103000
DTSTAMP:20250627T170354Z
URL:https://morayroadrunners.com/events/training-lossie-west-beach-8-10-x-
 3min-efforts/
SUMMARY:Lossie West Beach
DESCRIPTION:
CATEGORIES:Training
LOCATION:Lossiemouth West Beach\, West Beach\, Lossiemouth\, Scotland
X-APPLE-STRUCTURED-LOCATION;VALUE=URI;X-ADDRESS=West Beach\, Lossiemouth\, 
 Scotland;X-APPLE-RADIUS=100;X-TITLE=Lossiemouth West Beach:geo:0,0
END:VEVENT
BEGIN:VTIMEZONE
TZID:Europe/London
X-LIC-LOCATION:Europe/London
BEGIN:DAYLIGHT
DTSTART:20250330T020000
TZOFFSETFROM:+0000
TZOFFSETTO:+0100
TZNAME:BST
END:DAYLIGHT
END:VTIMEZONE
END:VCALENDAR