BEGIN:VCALENDAR
VERSION:2.0
PRODID:-//wp-events-plugin.com//7.2.3.1//EN
TZID:Europe/London
X-WR-TIMEZONE:Europe/London
BEGIN:VEVENT
UID:2765@morayroadrunners.com
DTSTART;TZID=Europe/London:20250615T090000
DTEND;TZID=Europe/London:20250615T103000
DTSTAMP:20250612T205306Z
URL:https://morayroadrunners.com/events/training-miltonduff-loop-3/
SUMMARY:Training - Miltonduff Loop(s)
DESCRIPTION:
CATEGORIES:Training
LOCATION:Miltonduff Village Hall\, Aquila\, Miltonduff\, IV30 8TL\, Scotlan
 d
GEO:57.62118160000001;-3.366819200000009
X-APPLE-STRUCTURED-LOCATION;VALUE=URI;X-ADDRESS=Aquila\, Miltonduff\, IV30 
 8TL\, Scotland;X-APPLE-RADIUS=100;X-TITLE=Miltonduff Village Hall:geo:57.6
 2118160000001,-3.366819200000009
END:VEVENT
BEGIN:VTIMEZONE
TZID:Europe/London
X-LIC-LOCATION:Europe/London
BEGIN:DAYLIGHT
DTSTART:20250330T020000
TZOFFSETFROM:+0000
TZOFFSETTO:+0100
TZNAME:BST
END:DAYLIGHT
END:VTIMEZONE
END:VCALENDAR