BEGIN:VCALENDAR
VERSION:2.0
PRODID:-//wp-events-plugin.com//7.2.3.1//EN
TZID:Europe/London
X-WR-TIMEZONE:Europe/London
BEGIN:VEVENT
UID:2771@morayroadrunners.com
DTSTART;TZID=Europe/London:20230108T090000
DTEND;TZID=Europe/London:20230108T103000
DTSTAMP:20221027T164348Z
URL:https://morayroadrunners.com/events/training-monaughty-woods-and-horro
 r-hill/
SUMMARY:Training - Monaughty woods and Horror hill
DESCRIPTION:
CATEGORIES:Training
LOCATION:Torrieston Forest\, Picnic Spot\, Monaughty\, IV30 8TJ\, United Ki
 ngdom
GEO:57.62461339999999;-3.3783846999999696
X-APPLE-STRUCTURED-LOCATION;VALUE=URI;X-ADDRESS=Picnic Spot\, Monaughty\, I
 V30 8TJ\, United Kingdom;X-APPLE-RADIUS=100;X-TITLE=Torrieston Forest:geo:
 57.62461339999999,-3.3783846999999696
END:VEVENT
BEGIN:VTIMEZONE
TZID:Europe/London
X-LIC-LOCATION:Europe/London
BEGIN:STANDARD
DTSTART:20221030T010000
TZOFFSETFROM:+0100
TZOFFSETTO:+0000
TZNAME:GMT
END:STANDARD
END:VTIMEZONE
END:VCALENDAR