BEGIN:VCALENDAR
VERSION:2.0
PRODID:-//wp-events-plugin.com//7.2.3.1//EN
TZID:Europe/London
X-WR-TIMEZONE:Europe/London
BEGIN:VEVENT
UID:3208@morayroadrunners.com
DTSTART;TZID=Europe/London:20240525T090000
DTEND;TZID=Europe/London:20240525T100000
DTSTAMP:20240523T122416Z
URL:https://morayroadrunners.com/events/training-morriston-running-track-1
 mile-2-x-800m-3-x-400m-4-x-200m/
SUMMARY:Training - Morriston running track. 1mile\, 2 x 800m\,  3 x 400m\, 
 4 x 200m
DESCRIPTION:
CATEGORIES:Training
LOCATION:Morriston Park Track\, Morriston Park\, Elgin\, Scotland
GEO:57.64945400000001;-3.3184850000000097
X-APPLE-STRUCTURED-LOCATION;VALUE=URI;X-ADDRESS=Morriston Park\, Elgin\, Sc
 otland;X-APPLE-RADIUS=100;X-TITLE=Morriston Park Track:geo:57.649454000000
 01,-3.3184850000000097
END:VEVENT
BEGIN:VTIMEZONE
TZID:Europe/London
X-LIC-LOCATION:Europe/London
BEGIN:DAYLIGHT
DTSTART:20240331T020000
TZOFFSETFROM:+0000
TZOFFSETTO:+0100
TZNAME:BST
END:DAYLIGHT
END:VTIMEZONE
END:VCALENDAR