BEGIN:VCALENDAR
VERSION:2.0
PRODID:-//wp-events-plugin.com//7.2.3.1//EN
TZID:Europe/London
X-WR-TIMEZONE:Europe/London
BEGIN:VEVENT
UID:1471@morayroadrunners.com
DTSTART;TZID=Europe/London:20250125T103000
DTEND;TZID=Europe/London:20250125T113000
DTSTAMP:20250120T191911Z
URL:https://morayroadrunners.com/events/training-north-area-training-sessi
 on-7/
SUMMARY:Training - North Area Training Session
DESCRIPTION:Please be warmed up for a first rep at 10.30am.\nSession is -\n
 2-4 sets of: 4 mins (90 sec rec)\, 3 mins (60 sec rec)\, 2 mins (90 sec re
 c)
CATEGORIES:Training
LOCATION:Grant Park\, Victoria Road\, Forres\, Scotland
GEO:57.6138456;-3.6012929999999415
X-APPLE-STRUCTURED-LOCATION;VALUE=URI;X-ADDRESS=Victoria Road\, Forres\, Sc
 otland;X-APPLE-RADIUS=100;X-TITLE=Grant Park:geo:57.6138456,-3.60129299999
 99415
END:VEVENT
BEGIN:VTIMEZONE
TZID:Europe/London
X-LIC-LOCATION:Europe/London
BEGIN:STANDARD
DTSTART:20241027T010000
TZOFFSETFROM:+0100
TZOFFSETTO:+0000
TZNAME:GMT
END:STANDARD
END:VTIMEZONE
END:VCALENDAR