BEGIN:VCALENDAR
VERSION:2.0
PRODID:-//wp-events-plugin.com//7.2.3.1//EN
TZID:Europe/London
X-WR-TIMEZONE:Europe/London
BEGIN:VEVENT
UID:2198@morayroadrunners.com
DTSTART;TZID=Europe/London:20250920T103000
DTEND;TZID=Europe/London:20250920T113000
DTSTAMP:20250921T133327Z
URL:https://morayroadrunners.com/events/training-north-district-training-s
 ession-at-grant-park-in-forres/
SUMMARY:Training - North District training session
DESCRIPTION:5 min tempo followed by up to 10 x 3 mins (90 sec recovery).
CATEGORIES:Training
LOCATION:Grant Park \, High Street\, Forres\, Scotland
GEO:57.60967719999999;-3.6135835000000043
X-APPLE-STRUCTURED-LOCATION;VALUE=URI;X-ADDRESS=High Street\, Forres\, Scot
 land;X-APPLE-RADIUS=100;X-TITLE=Grant Park :geo:57.60967719999999,-3.61358
 35000000043
END:VEVENT
BEGIN:VTIMEZONE
TZID:Europe/London
X-LIC-LOCATION:Europe/London
BEGIN:DAYLIGHT
DTSTART:20250330T020000
TZOFFSETFROM:+0000
TZOFFSETTO:+0100
TZNAME:BST
END:DAYLIGHT
END:VTIMEZONE
END:VCALENDAR