BEGIN:VCALENDAR
VERSION:2.0
PRODID:-//wp-events-plugin.com//7.2.3.1//EN
TZID:Europe/London
X-WR-TIMEZONE:Europe/London
BEGIN:VEVENT
UID:2767@morayroadrunners.com
DTSTART;TZID=Europe/London:20251130T090000
DTEND;TZID=Europe/London:20251130T103000
DTSTAMP:20251128T212951Z
URL:https://morayroadrunners.com/events/training-roseisle-45-out-45-back/
SUMMARY:Training - Roseisle 45 out/45 back
DESCRIPTION:
CATEGORIES:Training
LOCATION:Roseisle Forest\, Picnic Area\, Kinloss\, IV36 2UB\, Scotland
GEO:57.6524966;-3.5008172999999942
X-APPLE-STRUCTURED-LOCATION;VALUE=URI;X-ADDRESS=Picnic Area\, Kinloss\, IV3
 6 2UB\, Scotland;X-APPLE-RADIUS=100;X-TITLE=Roseisle Forest:geo:57.6524966
 ,-3.5008172999999942
END:VEVENT
BEGIN:VTIMEZONE
TZID:Europe/London
X-LIC-LOCATION:Europe/London
BEGIN:STANDARD
DTSTART:20251026T010000
TZOFFSETFROM:+0100
TZOFFSETTO:+0000
TZNAME:GMT
END:STANDARD
END:VTIMEZONE
END:VCALENDAR