BEGIN:VCALENDAR
VERSION:2.0
PRODID:-//wp-events-plugin.com//7.2.3.1//EN
TZID:Europe/London
X-WR-TIMEZONE:Europe/London
BEGIN:VEVENT
UID:4277@morayroadrunners.com
DTSTART;TZID=Europe/London:20250622T090000
DTEND;TZID=Europe/London:20250622T103000
DTSTAMP:20250619T210114Z
URL:https://morayroadrunners.com/events/training-spey-bay/
SUMMARY:Training - Spey Bay
DESCRIPTION:
CATEGORIES:Training
LOCATION:WDC Scottish Dolphin Centre\, Spey Bay\, Fochabers\, Moray\, IV32 
 7PJ\, Scotland
X-APPLE-STRUCTURED-LOCATION;VALUE=URI;X-ADDRESS=Spey Bay\, Fochabers\, Mora
 y\, IV32 7PJ\, Scotland;X-APPLE-RADIUS=100;X-TITLE=WDC Scottish Dolphin Ce
 ntre:geo:0,0
END:VEVENT
BEGIN:VTIMEZONE
TZID:Europe/London
X-LIC-LOCATION:Europe/London
BEGIN:DAYLIGHT
DTSTART:20250330T020000
TZOFFSETFROM:+0000
TZOFFSETTO:+0100
TZNAME:BST
END:DAYLIGHT
END:VTIMEZONE
END:VCALENDAR