BEGIN:VCALENDAR
VERSION:2.0
PRODID:-//wp-events-plugin.com//7.2.3.1//EN
TZID:Europe/London
X-WR-TIMEZONE:Europe/London
BEGIN:VEVENT
UID:1153@morayroadrunners.com
DTSTART;TZID=Europe/London:20260426T090000
DTEND;TZID=Europe/London:20260426T103000
DTSTAMP:20260423T212154Z
URL:https://morayroadrunners.com/events/training-speyside-way-45-mins-out-
 and-back/
SUMMARY:Training - Speyside Way 45 mins out and back
DESCRIPTION:
CATEGORIES:Training
LOCATION:Alice Littler Memorial Park\, Memorial Park\, Aberlour\, AB38 9QP\
 , Scotland
GEO:57.4706546;-3.228896899999995
X-APPLE-STRUCTURED-LOCATION;VALUE=URI;X-ADDRESS=Memorial Park\, Aberlour\, 
 AB38 9QP\, Scotland;X-APPLE-RADIUS=100;X-TITLE=Alice Littler Memorial Park
 :geo:57.4706546,-3.228896899999995
END:VEVENT
BEGIN:VTIMEZONE
TZID:Europe/London
X-LIC-LOCATION:Europe/London
BEGIN:DAYLIGHT
DTSTART:20260329T020000
TZOFFSETFROM:+0000
TZOFFSETTO:+0100
TZNAME:BST
END:DAYLIGHT
END:VTIMEZONE
END:VCALENDAR