BEGIN:VCALENDAR
VERSION:2.0
PRODID:-//wp-events-plugin.com//7.2.3.1//EN
TZID:Europe/London
X-WR-TIMEZONE:Europe/London
BEGIN:VEVENT
UID:2762@morayroadrunners.com
DTSTART;TZID=Europe/London:20230104T090000
DTEND;TZID=Europe/London:20230104T103000
DTSTAMP:20230103T173829Z
URL:https://morayroadrunners.com/events/training-speyside-way-aberlour-45-
 out-45-back/
SUMMARY:Training - Loops of Cooper Park
DESCRIPTION:
CATEGORIES:Training
LOCATION:Moray Leisure Centre\, Borough Briggs Road\, Elgin\, IV30 1AP\, Sc
 otland
GEO:57.65159589999999;-3.322367399999962
X-APPLE-STRUCTURED-LOCATION;VALUE=URI;X-ADDRESS=Borough Briggs Road\, Elgin
 \, IV30 1AP\, Scotland;X-APPLE-RADIUS=100;X-TITLE=Moray Leisure Centre:geo
 :57.65159589999999,-3.322367399999962
END:VEVENT
BEGIN:VTIMEZONE
TZID:Europe/London
X-LIC-LOCATION:Europe/London
BEGIN:STANDARD
DTSTART:20221030T010000
TZOFFSETFROM:+0100
TZOFFSETTO:+0000
TZNAME:GMT
END:STANDARD
END:VTIMEZONE
END:VCALENDAR