BEGIN:VCALENDAR
VERSION:2.0
PRODID:-//wp-events-plugin.com//7.2.3.1//EN
TZID:Europe/London
X-WR-TIMEZONE:Europe/London
BEGIN:VEVENT
UID:2201@morayroadrunners.com
DTSTART;TZID=Europe/London:20251221T090000
DTEND;TZID=Europe/London:20251221T103000
DTSTAMP:20251109T220737Z
URL:https://morayroadrunners.com/events/training-speyside-way-aberlour/
SUMMARY:Training - Speyside Way\, Aberlour
DESCRIPTION:45min out\, 45min back
CATEGORIES:Training
LOCATION:Alice Littler Memorial Park\, Memorial Park\, Aberlour\, AB38 9QP\
 , Scotland
GEO:57.4706546;-3.228896899999995
X-APPLE-STRUCTURED-LOCATION;VALUE=URI;X-ADDRESS=Memorial Park\, Aberlour\, 
 AB38 9QP\, Scotland;X-APPLE-RADIUS=100;X-TITLE=Alice Littler Memorial Park
 :geo:57.4706546,-3.228896899999995
END:VEVENT
BEGIN:VTIMEZONE
TZID:Europe/London
X-LIC-LOCATION:Europe/London
BEGIN:STANDARD
DTSTART:20251026T010000
TZOFFSETFROM:+0100
TZOFFSETTO:+0000
TZNAME:GMT
END:STANDARD
END:VTIMEZONE
END:VCALENDAR