BEGIN:VCALENDAR
VERSION:2.0
PRODID:-//wp-events-plugin.com//7.2.3.1//EN
TZID:Europe/London
X-WR-TIMEZONE:Europe/London
BEGIN:VEVENT
UID:3184@morayroadrunners.com
DTSTART;TZID=Europe/London:20230531T180000
DTEND;TZID=Europe/London:20230531T190000
DTSTAMP:20230318T113252Z
URL:https://morayroadrunners.com/events/training-spynie-hills-meet-spynie-
 kirk-car-park-2/
SUMMARY:Training - Spynie Hills (meet Spynie Kirk Car Park)
DESCRIPTION:
CATEGORIES:Training
LOCATION:Spynie Kirk\, Spynie\, Elgin\, Scotland
X-APPLE-STRUCTURED-LOCATION;VALUE=URI;X-ADDRESS=Spynie\, Elgin\, Scotland;X
 -APPLE-RADIUS=100;X-TITLE=Spynie Kirk:geo:0,0
END:VEVENT
BEGIN:VTIMEZONE
TZID:Europe/London
X-LIC-LOCATION:Europe/London
BEGIN:DAYLIGHT
DTSTART:20230326T020000
TZOFFSETFROM:+0000
TZOFFSETTO:+0100
TZNAME:BST
END:DAYLIGHT
END:VTIMEZONE
END:VCALENDAR