BEGIN:VCALENDAR
VERSION:2.0
PRODID:-//wp-events-plugin.com//7.2.3.1//EN
TZID:Europe/London
X-WR-TIMEZONE:Europe/London
BEGIN:VEVENT
UID:3183@morayroadrunners.com
DTSTART;TZID=Europe/London:20251224T090000
DTEND;TZID=Europe/London:20251224T100000
DTSTAMP:20251224T130812Z
URL:https://morayroadrunners.com/events/training-spynie-hills-meet-spynie-
 kirk-car-park/
SUMMARY:Training - Spynie Hills (meet Spynie Kirk Car Park)
DESCRIPTION:
CATEGORIES:Training
LOCATION:Spynie Kirk\, Spynie\, Elgin\, Scotland
X-APPLE-STRUCTURED-LOCATION;VALUE=URI;X-ADDRESS=Spynie\, Elgin\, Scotland;X
 -APPLE-RADIUS=100;X-TITLE=Spynie Kirk:geo:0,0
END:VEVENT
BEGIN:VTIMEZONE
TZID:Europe/London
X-LIC-LOCATION:Europe/London
BEGIN:STANDARD
DTSTART:20251026T010000
TZOFFSETFROM:+0100
TZOFFSETTO:+0000
TZNAME:GMT
END:STANDARD
END:VTIMEZONE
END:VCALENDAR