BEGIN:VCALENDAR
VERSION:2.0
PRODID:-//wp-events-plugin.com//7.2.3.1//EN
TZID:Europe/London
X-WR-TIMEZONE:Europe/London
BEGIN:VEVENT
UID:4028@morayroadrunners.com
DTSTART;TZID=Europe/London:20251220T090000
DTEND;TZID=Europe/London:20251220T100000
DTSTAMP:20251217T124231Z
URL:https://morayroadrunners.com/events/training-teindland-woods/
SUMMARY:Training - Oakwoods (30mins)(750m Loop)
DESCRIPTION:
CATEGORIES:Training
LOCATION:Brumley Brae car Park\, Brumley Brae\, Elgin\, IV30 8XU\, Scotland
GEO:57.6529214;-3.3398826999999756
X-APPLE-STRUCTURED-LOCATION;VALUE=URI;X-ADDRESS=Brumley Brae\, Elgin\, IV30
  8XU\, Scotland;X-APPLE-RADIUS=100;X-TITLE=Brumley Brae car Park:geo:57.65
 29214,-3.3398826999999756
END:VEVENT
BEGIN:VTIMEZONE
TZID:Europe/London
X-LIC-LOCATION:Europe/London
BEGIN:STANDARD
DTSTART:20251026T010000
TZOFFSETFROM:+0100
TZOFFSETTO:+0000
TZNAME:GMT
END:STANDARD
END:VTIMEZONE
END:VCALENDAR