BEGIN:VCALENDAR
VERSION:2.0
PRODID:-//wp-events-plugin.com//7.2.3.1//EN
TZID:Europe/London
X-WR-TIMEZONE:Europe/London
BEGIN:VEVENT
UID:1053@morayroadrunners.com
DTSTART;TZID=Europe/London:20180602T090000
DTEND;TZID=Europe/London:20180602T170000
DTSTAMP:20180505T153534Z
URL:https://morayroadrunners.com/events/trotternish-ridge-race-2/
SUMMARY:Trotternish Ridge Race
DESCRIPTION:Information
CATEGORIES:Ultra Running
LOCATION:Portree High School\, Viewfield Road\, Portree\, IV51 9ET\, Scotla
 nd
GEO:57.4005226;-6.200816099999997
X-APPLE-STRUCTURED-LOCATION;VALUE=URI;X-ADDRESS=Viewfield Road\, Portree\, 
 IV51 9ET\, Scotland;X-APPLE-RADIUS=100;X-TITLE=Portree High School:geo:57.
 4005226,-6.200816099999997
END:VEVENT
BEGIN:VTIMEZONE
TZID:Europe/London
X-LIC-LOCATION:Europe/London
BEGIN:DAYLIGHT
DTSTART:20180325T020000
TZOFFSETFROM:+0000
TZOFFSETTO:+0100
TZNAME:BST
END:DAYLIGHT
END:VTIMEZONE
END:VCALENDAR