BEGIN:VCALENDAR
VERSION:2.0
PRODID:-//wp-events-plugin.com//7.2.3.1//EN
TZID:Europe/London
X-WR-TIMEZONE:Europe/London
BEGIN:VEVENT
UID:3215@morayroadrunners.com
DTSTART;TZID=Europe/London:20240623T090000
DTEND;TZID=Europe/London:20240623T130000
DTSTAMP:20240402T213926Z
URL:https://morayroadrunners.com/events/turriff-running-club-10k/
SUMMARY:Turriff Running Club 10K
DESCRIPTION:Entry and Information
CATEGORIES:Trail Running
LOCATION:The Den\, The Haughs\, Queens Road\, Turriff\, Scotland
X-APPLE-STRUCTURED-LOCATION;VALUE=URI;X-ADDRESS=The Haughs\, Queens Road\, 
 Turriff\, Scotland;X-APPLE-RADIUS=100;X-TITLE=The Den:geo:0,0
END:VEVENT
BEGIN:VTIMEZONE
TZID:Europe/London
X-LIC-LOCATION:Europe/London
BEGIN:DAYLIGHT
DTSTART:20240331T020000
TZOFFSETFROM:+0000
TZOFFSETTO:+0100
TZNAME:BST
END:DAYLIGHT
END:VTIMEZONE
END:VCALENDAR