BEGIN:VCALENDAR
VERSION:2.0
PRODID:-//wp-events-plugin.com//7.2.3.1//EN
TZID:Europe/London
X-WR-TIMEZONE:Europe/London
BEGIN:VEVENT
UID:945@morayroadrunners.com
DTSTART;TZID=Europe/London:20171223T140000
DTEND;TZID=Europe/London:20171223T160000
DTSTAMP:20171121T195255Z
URL:https://morayroadrunners.com/events/winter-solstice-fun-run-2/
SUMMARY:Winter Solstice Fun Run
DESCRIPTION:
CATEGORIES:Trail Running
LOCATION:Burghead Headland\, Burghead\, Burghead\, Scotland
GEO:57.70137440000001;-3.49077699999998
X-APPLE-STRUCTURED-LOCATION;VALUE=URI;X-ADDRESS=Burghead\, Burghead\, Scotl
 and;X-APPLE-RADIUS=100;X-TITLE=Burghead Headland:geo:57.70137440000001,-3.
 49077699999998
END:VEVENT
BEGIN:VTIMEZONE
TZID:Europe/London
X-LIC-LOCATION:Europe/London
BEGIN:STANDARD
DTSTART:20171029T010000
TZOFFSETFROM:+0100
TZOFFSETTO:+0000
TZNAME:GMT
END:STANDARD
END:VTIMEZONE
END:VCALENDAR