BEGIN:VCALENDAR
VERSION:2.0
PRODID:-//wp-events-plugin.com//7.2.3.1//EN
TZID:Europe/London
X-WR-TIMEZONE:Europe/London
BEGIN:VEVENT
UID:2757@morayroadrunners.com
DTSTART;TZID=Europe/London:20251225T093000
DTEND;TZID=Europe/London:20251225T103000
DTSTAMP:20251111T182534Z
URL:https://morayroadrunners.com/events/xmas-day-parkrun-to-be-confirmed/
SUMMARY:Training - Xmas Day parkrun
DESCRIPTION:
CATEGORIES:Training
LOCATION:Cooper Park\, Cooper Park\, Elgin\, IV30 1HS\, Scotland
X-APPLE-STRUCTURED-LOCATION;VALUE=URI;X-ADDRESS=Cooper Park\, Elgin\, IV30 
 1HS\, Scotland;X-APPLE-RADIUS=100;X-TITLE=Cooper Park:geo:0,0
END:VEVENT
BEGIN:VTIMEZONE
TZID:Europe/London
X-LIC-LOCATION:Europe/London
BEGIN:STANDARD
DTSTART:20251026T010000
TZOFFSETFROM:+0100
TZOFFSETTO:+0000
TZNAME:GMT
END:STANDARD
END:VTIMEZONE
END:VCALENDAR